Workbook

Sheet 【校正配布一覧】
B2: 【念校】校正配布一覧
B5: 2018バレンタインカタログ（A5・56ページ・中綴じ ※東京店のみ52ページ） 5店舗差替え［心斎橋店・梅田店・神戸店・京都店・東京店］
B7: ■12/6（水）念校配布→12/7（木）返却 | F7: 担当 | G7: 食品 渡辺様 販促 高畑様
B9: 場所 | D9: お名前 | F9: 備考
B12: 東京本社 | C12: □ | D12: （食品） 渡辺 | E12: 様
B13: （木場） | C13: □ | D13: （販促） 久保田 | E13: 様
C14: □ | D14: （ＷＥＢ・コンプラ） 三宅 | E14: 様
C15: □ | D15: （WEB通販） 田野岡 | E15: 様
C16: □
B18: 大阪本社 | C18: □ | D18: （販促） 高畑 | E18: 様 | F18: ※別途製本1部必要
B19: （高槻） | C19: □
C20: □ | E20: 様
B22: 各店 | C22: □ | D22: 心斎橋店 営業推進 | E22: 様 | F22: ※心斎橋店版のみ
C23: □ | D23: 心斎橋店 （食品） 山田 | E23: 様
E24: 様
C25: □ | D25: 梅田店 営業推進 | E25: 様 | F25: ※梅田店版のみ
C26: □ | D26: 梅田店 （食品） 橋本 | E26: 様
E27: 様
C28: □ | D28: 京都店 営業推進 | E28: 様 | F28: ※京都店版のみ
C29: □ | D29: 京都店 （食品） 土井 | E29: 様
E30: 様
C31: □ | D31: 神戸店 営業推進 | E31: 様 | F31: ※神戸店版のみ
C32: □ | D32: 神戸店 （食品） 山澤マネジャー | E32: 様
E33: 様
C34: □ | D34: 東京店 営業推進 | E34: 様 | F34: ※東京店版のみ
C35: □ | D35: 東京店 （食品） 戸沼マネジャー | E35: 様
C36: □ | D36: 東京店 （食品） 西野 | E36: 様
B38: その他 | C38: □

Sheet フォーマット
A1: 校正をお願い致します | H1: 念校 | J1: =A1 -> 校正をお願い致します | Q1: =H1 -> 念校
A4: 本社 営業企画部 制作 | J4: =A4 -> 本社 営業企画部 制作
A5: 2018 バレンタインカタログ５種 ［心斎橋店・梅田店・京都店・神戸店・東京店］ （A5・56ページ・中綴じ ※東京店のみ52ページ） | J5: =A5 -> 2018 バレンタインカタログ５種 ［心斎橋店・梅田店・京都店・神戸店・東京店］ （A5・56ページ・中綴じ ※東京店のみ52ページ）
A7: 担当名 | H7: 様 | J7: 熊本部長・櫻井マネジャー | Q7: 様
A8: ▼下記の内容を確認の上 □ にチェックしてください | J8: ▼下記の内容を確認の上 □ にチェックしてください
A9: □ | B9: 商品の色合い(画像) | J9: □ | K9: 商品の色合い(画像)
A10: □ | B10: ブランド名・商品名・ロゴマーク | J10: □ | K10: ブランド名・商品名・ロゴマーク
A11: □ | B11: 税込価格・素材・色柄名・サイズ・原産国等の明細 | J11: □ | K11: 税込価格・素材・色柄名・サイズ・原産国等の明細
A12: □ | B12: 特徴や商品コピー等(強調表示) | J12: □ | K12: 特徴や商品コピー等(強調表示)
A13: □ | B13: 取扱い店および階数・フロア名 | J13: □ | K13: 取扱い店および階数・フロア名
A14: □ | B14: 展開期間 | J14: □ | K14: 展開期間
A15: □ | B15: 取引先・メーカーとの校正確認 | J15: □ | K15: 取引先・メーカーとの校正確認
A18: 検印を押し、 | C18: 43076 | F18: 15 | G18: [時間厳守]までに | L18: 返却不要
A19: 媒体制作担当 | C19: 石田大成社 | F19: に返却願います。 | J19: 媒体制作担当 | L19: =C19 -> 石田大成社
A21: 検印欄 | J21: 検印欄
F22: 媒体制作担当者 | K22: マネジャー | O22: 媒体制作担当者
M23: →
A25: スケジュール | J25: スケジュール
A26: 初校 | C26: 再校 | E26: 念校 | G26: 責了 | J26: =A26 -> 初校 | L26: =C26 -> 再校 | N26: =E26 -> 念校 | P26: =G26 -> 責了
A27: 43048 | C27: 43063 | E27: 43075 | G27: 43081 | J27: =A27 -> 43048 | L27: =C27 -> 43063 | N27: =E27 -> 43075 | P27: =G27 -> 43081
A28: 納品 | J28: =A28 -> 納品 | L28: =C28 | N28: =E28 | P28: =G28
A29: 43097 | J29: =A29 -> 43097 | L29: =C29 | N29: =E29 | P29: =G29
A30: 備考： | J30: 備考： | K30: =B30
E31: 石田大成社 | F31: 大阪 | G31: 営業担当： | H31: 杉上 | N31: =E31 -> 石田大成社 | O31: =F31 -> 大阪 | P31: 営業担当： | Q31: =H31 -> 杉上
A32: （心・梅・京・山・神・須・芦・東・札・博・下・鳥・高知・名・豊・上・静・高槻）
A33: 状態 | C33: 担当名
A34: 初校 | B34: 1 | C34: 久保田 | D34: 080-3301-6896
A35: 再校 | B35: 2 | C35: 仲村 | D35: 080-4066-2895
A36: 念校 | B36: 3 | C36: 平田 | D36: 080-3277-5085
A37: 最終 | B37: 4 | C37: 永井 | D37: 080-4066-2886
A38: １回 | B38: 5 | C38: 木村 真理子 | D38: 080-4066-2902
A39: ３校 | B39: 6 | C39: 秀島 | D39: 080-4752-7796
A40: ４校 | B40: 7 | C40: 木村 秋斗 | D40: 080-3815-5297
B41: 8
B42: 9

Sheet 【木場】久保田様・三宅様
A1: =フォーマット!A1 -> 校正をお願い致します | H1: =フォーマット!H1 -> 念校 | J1: =フォーマット!A1 -> 校正をお願い致します | Q1: =フォーマット!H1 -> 念校
A4: =フォーマット!A4 -> 本社 営業企画部 制作 | J4: =フォーマット!A4 -> 本社 営業企画部 制作
A5: =フォーマット!A5 -> 2018 バレンタインカタログ５種 ［心斎橋店・梅田店・京都店・神戸店・東京店］ （A5・56ページ・中綴じ ※東京店のみ52ページ） | J5: =フォーマット!A5 -> 2018 バレンタインカタログ５種 ［心斎橋店・梅田店・京都店・神戸店・東京店］ （A5・56ページ・中綴じ ※東京店のみ52ページ）
A7: 久保田 | H7: 様 | J7: 三宅 | Q7: 様
A8: ▼下記の内容を確認の上 □ にチェックしてください | J8: ▼下記の内容を確認の上 □ にチェックしてください
A9: □ | B9: 商品の色合い(画像) | J9: □ | K9: 商品の色合い(画像)
A10: □ | B10: ブランド名・商品名・ロゴマーク | J10: □ | K10: ブランド名・商品名・ロゴマーク
A11: □ | B11: 税込価格・素材・色柄名・サイズ・原産国等の明細 | J11: □ | K11: 税込価格・素材・色柄名・サイズ・原産国等の明細
A12: □ | B12: 特徴や商品コピー等(強調表示) | J12: □ | K12: 特徴や商品コピー等(強調表示)
A13: □ | B13: 取扱い店および階数・フロア名 | J13: □ | K13: 取扱い店および階数・フロア名
A14: □ | B14: 展開期間 | J14: □ | K14: 展開期間
A15: □ | B15: 取引先・メーカーとの校正確認 | J15: □ | K15: 取引先・メーカーとの校正確認
A18: 検印を押し、 | C18: =フォーマット!C18 -> 43076 | F18: =フォーマット!F18 -> 15 | G18: [時間厳守]までに | J18: 検印を押し、 | L18: =フォーマット!C18 -> 43076 | O18: =フォーマット!F18 -> 15 | P18: [時間厳守]までに
A19: 媒体制作担当 | C19: =フォーマット!C19 -> 石田大成社 | F19: に返却願います。 | J19: 媒体制作担当 | L19: =フォーマット!C19 -> 石田大成社 | O19: に返却願います。
A21: 検印欄 | J21: 検印欄
B22: ご担当者 | F22: 媒体制作担当者 | K22: ご担当者 | O22: 媒体制作担当者
D23: → | M23: →
A25: スケジュール | J25: スケジュール
A26: =フォーマット!A26 -> 初校 | C26: =フォーマット!C26 -> 再校 | E26: =フォーマット!E26 -> 念校 | G26: =フォーマット!G26 -> 責了 | J26: =フォーマット!A26 -> 初校 | L26: =フォーマット!C26 -> 再校 | N26: =フォーマット!E26 -> 念校 | P26: =フォーマット!G26 -> 責了
A27: =フォーマット!A27 -> 43048 | C27: =フォーマット!C27 -> 43063 | E27: =フォーマット!E27 -> 43075 | G27: =フォーマット!G27 -> 43081 | J27: =フォーマット!A27 -> 43048 | L27: =フォーマット!C27 -> 43063 | N27: =フォーマット!E27 -> 43075 | P27: =フォーマット!G27 -> 43081
A28: =フォーマット!A28 -> 納品 | C28: =フォーマット!C28 | E28: =フォーマット!E28 | G28: =フォーマット!G28 | J28: =フォーマット!A28 -> 納品 | L28: =フォーマット!C28 | N28: =フォーマット!E28 | P28: =フォーマット!G28
A29: =フォーマット!A29 -> 43097 | C29: =フォーマット!C29 | E29: =フォーマット!E29 | G29: =フォーマット!G29 | J29: =フォーマット!A29 -> 43097 | L29: =フォーマット!C29 | N29: =フォーマット!E29 | P29: =フォーマット!G29
A30: 備考： | B30: =フォーマット!B30 | J30: 備考： | K30: =フォーマット!B30
E31: =フォーマット!E31 -> 石田大成社 | F31: =フォーマット!F31 -> 大阪 | G31: 営業担当： | H31: =フォーマット!H31 -> 杉上 | N31: =フォーマット!E31 -> 石田大成社 | O31: =フォーマット!F31 -> 大阪 | P31: 営業担当： | Q31: =フォーマット!H31 -> 杉上
A32: （心・梅・京・神・東・札・山・須・芦・博・下・鳥・高・名・豊・上・静・高）

Sheet 【木場】田野岡様
A1: =フォーマット!A1 -> 校正をお願い致します | H1: =フォーマット!H1 -> 念校 | J1: =フォーマット!A1 -> 校正をお願い致します | Q1: =フォーマット!H1 -> 念校
A4: =フォーマット!A4 -> 本社 営業企画部 制作 | J4: =フォーマット!A4 -> 本社 営業企画部 制作
A5: =フォーマット!A5 -> 2018 バレンタインカタログ５種 ［心斎橋店・梅田店・京都店・神戸店・東京店］ （A5・56ページ・中綴じ ※東京店のみ52ページ） | J5: =フォーマット!A5 -> 2018 バレンタインカタログ５種 ［心斎橋店・梅田店・京都店・神戸店・東京店］ （A5・56ページ・中綴じ ※東京店のみ52ページ）
A7: ＷＥＢ通販 田野岡 | H7: 様 | J7: デジタル担当 山田様・西本様
A8: ▼下記の内容を確認の上 □ にチェックしてください | J8: ▼下記の内容を確認の上 □ にチェックしてください
A9: □ | B9: 商品の色合い(画像) | J9: □ | K9: 商品の色合い(画像)
A10: □ | B10: ブランド名・商品名・ロゴマーク | J10: □ | K10: ブランド名・商品名・ロゴマーク
A11: □ | B11: 税込価格・素材・色柄名・サイズ・原産国等の明細 | J11: □ | K11: 税込価格・素材・色柄名・サイズ・原産国等の明細
A12: □ | B12: 特徴や商品コピー等(強調表示) | J12: □ | K12: 特徴や商品コピー等(強調表示)
A13: □ | B13: 取扱い店および階数・フロア名 | J13: □ | K13: 取扱い店および階数・フロア名
A14: □ | B14: 展開期間 | J14: □ | K14: 展開期間
A15: □ | B15: 取引先・メーカーとの校正確認 | J15: □ | K15: 取引先・メーカーとの校正確認
A18: 検印を押し、 | C18: =フォーマット!C18 -> 43076 | F18: =フォーマット!F18 -> 15 | G18: [時間厳守]までに | L18: 返却不要
A19: 媒体制作担当 | C19: =フォーマット!C19 -> 石田大成社 | F19: に返却願います。 | J19: 媒体制作担当 | L19: =フォーマット!C19 -> 石田大成社 | O19: に返却願います。
A21: 検印欄 | J21: 検印欄
B22: ご担当者 | F22: 媒体制作担当者 | K22: ご担当者 | O22: 媒体制作担当者
D23: → | M23: →
A25: スケジュール | J25: スケジュール
A26: =フォーマット!A26 -> 初校 | C26: =フォーマット!C26 -> 再校 | E26: =フォーマット!E26 -> 念校 | G26: =フォーマット!G26 -> 責了 | J26: =フォーマット!A26 -> 初校 | L26: =フォーマット!C26 -> 再校 | N26: =フォーマット!E26 -> 念校 | P26: =フォーマット!G26 -> 責了
A27: =フォーマット!A27 -> 43048 | C27: =フォーマット!C27 -> 43063 | E27: =フォーマット!E27 -> 43075 | G27: =フォーマット!G27 -> 43081 | J27: =フォーマット!A27 -> 43048 | L27: =フォーマット!C27 -> 43063 | N27: =フォーマット!E27 -> 43075 | P27: =フォーマット!G27 -> 43081
A28: =フォーマット!A28 -> 納品 | C28: =フォーマット!C28 | E28: =フォーマット!E28 | G28: =フォーマット!G28 | J28: =フォーマット!A28 -> 納品 | L28: =フォーマット!C28 | N28: =フォーマット!E28 | P28: =フォーマット!G28
A29: =フォーマット!A29 -> 43097 | C29: =フォーマット!C29 | E29: =フォーマット!E29 | G29: =フォーマット!G29 | J29: =フォーマット!A29 -> 43097 | L29: =フォーマット!C29 | N29: =フォーマット!E29 | P29: =フォーマット!G29
A30: 備考： | B30: =フォーマット!B30 | J30: 備考： | K30: =フォーマット!B30
E31: =フォーマット!E31 -> 石田大成社 | F31: =フォーマット!F31 -> 大阪 | G31: 営業担当： | H31: =フォーマット!H31 -> 杉上 | N31: =フォーマット!E31 -> 石田大成社 | O31: =フォーマット!F31 -> 大阪 | P31: 営業担当： | Q31: =フォーマット!H31 -> 杉上
A32: （心・梅・京・神・東・札・山・須・芦・博・下・鳥・高・名・豊・上・静・高）

Sheet 【木場】渡辺様
A1: =フォーマット!A1 -> 校正をお願い致します | H1: =フォーマット!H1 -> 念校 | J1: =フォーマット!A1 -> 校正をお願い致します | Q1: =フォーマット!H1 -> 念校
A4: =フォーマット!A4 -> 本社 営業企画部 制作 | J4: =フォーマット!A4 -> 本社 営業企画部 制作
A5: =フォーマット!A5 -> 2018 バレンタインカタログ５種 ［心斎橋店・梅田店・京都店・神戸店・東京店］ （A5・56ページ・中綴じ ※東京店のみ52ページ） | J5: =フォーマット!A5 -> 2018 バレンタインカタログ５種 ［心斎橋店・梅田店・京都店・神戸店・東京店］ （A5・56ページ・中綴じ ※東京店のみ52ページ）
A7: 食品 渡辺 | H7: 様 | J7: 食品 権田部長 | Q7: 様
A8: ▼下記の内容を確認の上 □ にチェックしてください | J8: ▼下記の内容を確認の上 □ にチェックしてください
A9: □ | B9: 商品の色合い(画像) | J9: □ | K9: 商品の色合い(画像)
A10: □ | B10: ブランド名・商品名・ロゴマーク | J10: □ | K10: ブランド名・商品名・ロゴマーク
A11: □ | B11: 税込価格・素材・色柄名・サイズ・原産国等の明細 | J11: □ | K11: 税込価格・素材・色柄名・サイズ・原産国等の明細
A12: □ | B12: 特徴や商品コピー等(強調表示) | J12: □ | K12: 特徴や商品コピー等(強調表示)
A13: □ | B13: 取扱い店および階数・フロア名 | J13: □ | K13: 取扱い店および階数・フロア名
A14: □ | B14: 展開期間 | J14: □ | K14: 展開期間
A15: □ | B15: 取引先・メーカーとの校正確認 | J15: □ | K15: 取引先・メーカーとの校正確認
A18: 検印を押し、 | C18: =フォーマット!C18 -> 43076 | F18: =フォーマット!F18 -> 15 | G18: [時間厳守]までに | J18: 検印を押し、 | L18: =フォーマット!C18 -> 43076 | O18: =フォーマット!F18 -> 15 | P18: [時間厳守]までに
A19: 媒体制作担当 | C19: =フォーマット!C19 -> 石田大成社 | F19: に返却願います。 | J19: 媒体制作担当 | L19: =フォーマット!C19 -> 石田大成社 | O19: に返却願います。
A21: 検印欄 | J21: 検印欄
A22: ご担当者 | D22: マーチャンダイザー | G22: 媒体制作担当者 | J22: ご担当者 | M22: マーチャンダイザー | P22: 媒体制作担当者
C23: → | F23: → | L23: → | O23: →
A25: スケジュール | J25: スケジュール
A26: =フォーマット!A26 -> 初校 | C26: =フォーマット!C26 -> 再校 | E26: =フォーマット!E26 -> 念校 | G26: =フォーマット!G26 -> 責了 | J26: =フォーマット!A26 -> 初校 | L26: =フォーマット!C26 -> 再校 | N26: =フォーマット!E26 -> 念校 | P26: =フォーマット!G26 -> 責了
A27: =フォーマット!A27 -> 43048 | C27: =フォーマット!C27 -> 43063 | E27: =フォーマット!E27 -> 43075 | G27: =フォーマット!G27 -> 43081 | J27: =フォーマット!A27 -> 43048 | L27: =フォーマット!C27 -> 43063 | N27: =フォーマット!E27 -> 43075 | P27: =フォーマット!G27 -> 43081
A28: =フォーマット!A28 -> 納品 | C28: =フォーマット!C28 | E28: =フォーマット!E28 | G28: =フォーマット!G28 | J28: =フォーマット!A28 -> 納品 | L28: =フォーマット!C28 | N28: =フォーマット!E28 | P28: =フォーマット!G28
A29: =フォーマット!A29 -> 43097 | C29: =フォーマット!C29 | E29: =フォーマット!E29 | G29: =フォーマット!G29 | J29: =フォーマット!A29 -> 43097 | L29: =フォーマット!C29 | N29: =フォーマット!E29 | P29: =フォーマット!G29
A30: 備考： | B30: =フォーマット!B30 | J30: 備考： | K30: =フォーマット!B30
E31: =フォーマット!E31 -> 石田大成社 | F31: =フォーマット!F31 -> 大阪 | G31: 営業担当： | H31: =フォーマット!H31 -> 杉上 | N31: =フォーマット!E31 -> 石田大成社 | O31: =フォーマット!F31 -> 大阪 | P31: 営業担当： | Q31: =フォーマット!H31 -> 杉上
A32: （心・梅・京・神・東・札・山・須・芦・博・下・鳥・高・名・豊・上・静・高）

Sheet 【高槻】高畑様
A1: =フォーマット!A1 -> 校正をお願い致します | H1: =フォーマット!H1 -> 念校 | J1: =フォーマット!A1 -> 校正をお願い致します | Q1: =フォーマット!H1 -> 念校
A4: =フォーマット!A4 -> 本社 営業企画部 制作 | J4: =フォーマット!A4 -> 本社 営業企画部 制作
A5: =フォーマット!A5 -> 2018 バレンタインカタログ５種 ［心斎橋店・梅田店・京都店・神戸店・東京店］ （A5・56ページ・中綴じ ※東京店のみ52ページ） | J5: =フォーマット!A5 -> 2018 バレンタインカタログ５種 ［心斎橋店・梅田店・京都店・神戸店・東京店］ （A5・56ページ・中綴じ ※東京店のみ52ページ）
A7: 高畑 | H7: 様 | Q7: 様
A8: ▼下記の内容を確認の上 □ にチェックしてください | J8: ▼下記の内容を確認の上 □ にチェックしてください
A9: □ | B9: 商品の色合い(画像) | J9: □ | K9: 商品の色合い(画像)
A10: □ | B10: ブランド名・商品名・ロゴマーク | J10: □ | K10: ブランド名・商品名・ロゴマーク
A11: □ | B11: 税込価格・素材・色柄名・サイズ・原産国等の明細 | J11: □ | K11: 税込価格・素材・色柄名・サイズ・原産国等の明細
A12: □ | B12: 特徴や商品コピー等(強調表示) | J12: □ | K12: 特徴や商品コピー等(強調表示)
A13: □ | B13: 取扱い店および階数・フロア名 | J13: □ | K13: 取扱い店および階数・フロア名
A14: □ | B14: 展開期間 | J14: □ | K14: 展開期間
A15: □ | B15: 取引先・メーカーとの校正確認 | J15: □ | K15: 取引先・メーカーとの校正確認
A18: 検印を押し、 | C18: =フォーマット!C18 -> 43076 | F18: =フォーマット!F18 -> 15 | G18: [時間厳守]までに | J18: 検印を押し、 | L18: =フォーマット!C18 -> 43076 | O18: =フォーマット!F18 -> 15 | P18: [時間厳守]までに
A19: 媒体制作担当 | C19: =フォーマット!C19 -> 石田大成社 | F19: に返却願います。 | J19: 媒体制作担当 | L19: =フォーマット!C19 -> 石田大成社 | O19: に返却願います。
A21: 検印欄 | J21: 検印欄
B22: ご担当者 | F22: 媒体制作担当者 | K22: ご担当者 | O22: 媒体制作担当者
D23: → | M23: →
A25: スケジュール | J25: スケジュール
A26: =フォーマット!A26 -> 初校 | C26: =フォーマット!C26 -> 再校 | E26: =フォーマット!E26 -> 念校 | G26: =フォーマット!G26 -> 責了 | J26: =フォーマット!A26 -> 初校 | L26: =フォーマット!C26 -> 再校 | N26: =フォーマット!E26 -> 念校 | P26: =フォーマット!G26 -> 責了
A27: =フォーマット!A27 -> 43048 | C27: =フォーマット!C27 -> 43063 | E27: =フォーマット!E27 -> 43075 | G27: =フォーマット!G27 -> 43081 | J27: =フォーマット!A27 -> 43048 | L27: =フォーマット!C27 -> 43063 | N27: =フォーマット!E27 -> 43075 | P27: =フォーマット!G27 -> 43081
A28: =フォーマット!A28 -> 納品 | C28: =フォーマット!C28 | E28: =フォーマット!E28 | G28: =フォーマット!G28 | J28: =フォーマット!A28 -> 納品 | L28: =フォーマット!C28 | N28: =フォーマット!E28 | P28: =フォーマット!G28
A29: =フォーマット!A29 -> 43097 | C29: =フォーマット!C29 | E29: =フォーマット!E29 | G29: =フォーマット!G29 | J29: =フォーマット!A29 -> 43097 | L29: =フォーマット!C29 | N29: =フォーマット!E29 | P29: =フォーマット!G29
A30: 備考： | B30: =フォーマット!B30 | J30: 備考： | K30: =フォーマット!B30
E31: =フォーマット!E31 -> 石田大成社 | F31: =フォーマット!F31 -> 大阪 | G31: 営業担当： | H31: =フォーマット!H31 -> 杉上 | N31: =フォーマット!E31 -> 石田大成社 | O31: =フォーマット!F31 -> 大阪 | P31: 営業担当： | Q31: =フォーマット!H31 -> 杉上
A32: （心・梅・京・神・東・札・山・須・芦・博・下・鳥・高・名・豊・上・静・高）

Sheet 心斎橋店
A1: =フォーマット!A1 -> 校正をお願い致します | H1: =フォーマット!H1 -> 念校 | J1: =フォーマット!A1 -> 校正をお願い致します | Q1: =フォーマット!H1 -> 念校
A4: =フォーマット!A4 -> 本社 営業企画部 制作 | J4: =フォーマット!A4 -> 本社 営業企画部 制作
A5: 2018 バレンタインカタログ ［心斎橋店版］ （A5・56ページ・中綴じ） | J5: =フォーマット!A5 -> 2018 バレンタインカタログ５種 ［心斎橋店・梅田店・京都店・神戸店・東京店］ （A5・56ページ・中綴じ ※東京店のみ52ページ）
A7: 心斎橋店 | H7: 様 | J7: 心斎橋店 食品 山田様
A8: ▼下記の内容を確認の上 □ にチェックしてください | J8: ▼下記の内容を確認の上 □ にチェックしてください
A9: □ | B9: 商品の色合い(画像) | J9: □ | K9: 商品の色合い(画像)
A10: □ | B10: ブランド名・商品名・ロゴマーク | J10: □ | K10: ブランド名・商品名・ロゴマーク
A11: □ | B11: 税込価格・素材・色柄名・サイズ・原産国等の明細 | J11: □ | K11: 税込価格・素材・色柄名・サイズ・原産国等の明細
A12: □ | B12: 特徴や商品コピー等(強調表示) | J12: □ | K12: 特徴や商品コピー等(強調表示)
A13: □ | B13: 取扱い店および階数・フロア名 | J13: □ | K13: 取扱い店および階数・フロア名
A14: □ | B14: 展開期間 | J14: □ | K14: 展開期間
A15: □ | B15: 取引先・メーカーとの校正確認 | J15: □ | K15: 取引先・メーカーとの校正確認
A18: 検印を押し、 | C18: =フォーマット!C18 -> 43076 | F18: =フォーマット!F18 -> 15 | G18: [時間厳守]までに | J18: 検印を押し、 | L18: =フォーマット!C18 -> 43076 | O18: =フォーマット!F18 -> 15 | P18: [時間厳守]までに
A19: 媒体制作担当 | C19: =フォーマット!C19 -> 石田大成社 | F19: に返却願います。 | J19: 媒体制作担当 | L19: =フォーマット!C19 -> 石田大成社 | O19: に返却願います。
A21: 検印欄 | J21: 検印欄
A22: ご担当者 | D22: 部長 | G22: 販企・広告 | J22: ご担当者 | M22: 部長 | P22: 販企・広告
C23: → | F23: → | L23: → | O23: →
A25: スケジュール | J25: スケジュール
A26: =フォーマット!A26 -> 初校 | C26: =フォーマット!C26 -> 再校 | E26: =フォーマット!E26 -> 念校 | G26: =フォーマット!G26 -> 責了 | J26: =フォーマット!A26 -> 初校 | L26: =フォーマット!C26 -> 再校 | N26: =フォーマット!E26 -> 念校 | P26: =フォーマット!G26 -> 責了
A27: =フォーマット!A27 -> 43048 | C27: =フォーマット!C27 -> 43063 | E27: =フォーマット!E27 -> 43075 | G27: =フォーマット!G27 -> 43081 | J27: =フォーマット!A27 -> 43048 | L27: =フォーマット!C27 -> 43063 | N27: =フォーマット!E27 -> 43075 | P27: =フォーマット!G27 -> 43081
A28: =フォーマット!A28 -> 納品 | C28: =フォーマット!C28 | E28: =フォーマット!E28 | G28: =フォーマット!G28 | J28: =フォーマット!A28 -> 納品 | L28: =フォーマット!C28 | N28: =フォーマット!E28 | P28: =フォーマット!G28
A29: =フォーマット!A29 -> 43097 | C29: =フォーマット!C29 | E29: =フォーマット!E29 | G29: =フォーマット!G29 | J29: =フォーマット!A29 -> 43097 | L29: =フォーマット!C29 | N29: =フォーマット!E29 | P29: =フォーマット!G29
A30: 備考： | B30: =フォーマット!B30 | J30: 備考： | K30: =フォーマット!B30
E31: =フォーマット!E31 -> 石田大成社 | F31: =フォーマット!F31 -> 大阪 | G31: 営業担当： | H31: =フォーマット!H31 -> 杉上 | N31: =フォーマット!E31 -> 石田大成社 | O31: =フォーマット!F31 -> 大阪 | P31: 営業担当： | Q31: =フォーマット!H31 -> 杉上
A32: （心・梅・京・神・東・札・山・須・芦・博・下・鳥・高・名・豊・上・静・高）

Sheet 梅田店
A1: =フォーマット!A1 -> 校正をお願い致します | H1: =フォーマット!H1 -> 念校 | J1: =フォーマット!A1 -> 校正をお願い致します | Q1: =フォーマット!H1 -> 念校
A4: =フォーマット!A4 -> 本社 営業企画部 制作 | J4: =フォーマット!A4 -> 本社 営業企画部 制作
A5: 2018 バレンタインカタログ ［梅田店版］ （A5・56ページ・中綴じ） | J5: =フォーマット!A5 -> 2018 バレンタインカタログ５種 ［心斎橋店・梅田店・京都店・神戸店・東京店］ （A5・56ページ・中綴じ ※東京店のみ52ページ）
A7: 梅田店 | H7: 様 | J7: 梅田店 食品 橋本様
A8: ▼下記の内容を確認の上 □ にチェックしてください | J8: ▼下記の内容を確認の上 □ にチェックしてください
A9: □ | B9: 商品の色合い(画像) | J9: □ | K9: 商品の色合い(画像)
A10: □ | B10: ブランド名・商品名・ロゴマーク | J10: □ | K10: ブランド名・商品名・ロゴマーク
A11: □ | B11: 税込価格・素材・色柄名・サイズ・原産国等の明細 | J11: □ | K11: 税込価格・素材・色柄名・サイズ・原産国等の明細
A12: □ | B12: 特徴や商品コピー等(強調表示) | J12: □ | K12: 特徴や商品コピー等(強調表示)
A13: □ | B13: 取扱い店および階数・フロア名 | J13: □ | K13: 取扱い店および階数・フロア名
A14: □ | B14: 展開期間 | J14: □ | K14: 展開期間
A15: □ | B15: 取引先・メーカーとの校正確認 | J15: □ | K15: 取引先・メーカーとの校正確認
A18: 検印を押し、 | C18: =フォーマット!C18 -> 43076 | F18: =フォーマット!F18 -> 15 | G18: [時間厳守]までに | J18: 検印を押し、 | L18: =フォーマット!C18 -> 43076 | O18: =フォーマット!F18 -> 15 | P18: [時間厳守]までに
A19: 媒体制作担当 | C19: =フォーマット!C19 -> 石田大成社 | F19: に返却願います。 | J19: 媒体制作担当 | L19: =フォーマット!C19 -> 石田大成社 | O19: に返却願います。
A21: 検印欄 | J21: 検印欄
A22: ご担当者 | D22: 部長 | G22: 販企・広告 | J22: ご担当者 | M22: 部長 | P22: 販企・広告
C23: → | F23: → | L23: → | O23: →
A25: スケジュール | J25: スケジュール
A26: =フォーマット!A26 -> 初校 | C26: =フォーマット!C26 -> 再校 | E26: =フォーマット!E26 -> 念校 | G26: =フォーマット!G26 -> 責了 | J26: =フォーマット!A26 -> 初校 | L26: =フォーマット!C26 -> 再校 | N26: =フォーマット!E26 -> 念校 | P26: =フォーマット!G26 -> 責了
A27: =フォーマット!A27 -> 43048 | C27: =フォーマット!C27 -> 43063 | E27: =フォーマット!E27 -> 43075 | G27: =フォーマット!G27 -> 43081 | J27: =フォーマット!A27 -> 43048 | L27: =フォーマット!C27 -> 43063 | N27: =フォーマット!E27 -> 43075 | P27: =フォーマット!G27 -> 43081
A28: =フォーマット!A28 -> 納品 | C28: =フォーマット!C28 | E28: =フォーマット!E28 | G28: =フォーマット!G28 | J28: =フォーマット!A28 -> 納品 | L28: =フォーマット!C28 | N28: =フォーマット!E28 | P28: =フォーマット!G28
A29: =フォーマット!A29 -> 43097 | C29: =フォーマット!C29 | E29: =フォーマット!E29 | G29: =フォーマット!G29 | J29: =フォーマット!A29 -> 43097 | L29: =フォーマット!C29 | N29: =フォーマット!E29 | P29: =フォーマット!G29
A30: 備考： | B30: =フォーマット!B30 | J30: 備考： | K30: =フォーマット!B30
E31: =フォーマット!E31 -> 石田大成社 | F31: =フォーマット!F31 -> 大阪 | G31: 営業担当： | H31: =フォーマット!H31 -> 杉上 | N31: =フォーマット!E31 -> 石田大成社 | O31: =フォーマット!F31 -> 大阪 | P31: 営業担当： | Q31: =フォーマット!H31 -> 杉上
A32: （心・梅・京・神・東・札・山・須・芦・博・下・鳥・高・名・豊・上・静・高）

Sheet 京都店
A1: =フォーマット!A1 -> 校正をお願い致します | H1: =フォーマット!H1 -> 念校 | J1: =フォーマット!A1 -> 校正をお願い致します | Q1: =フォーマット!H1 -> 念校
A4: =フォーマット!A4 -> 本社 営業企画部 制作 | J4: =フォーマット!A4 -> 本社 営業企画部 制作
A5: 2018 バレンタインカタログ ［京都店版］ （A5・56ページ・中綴じ） | J5: =フォーマット!A5 -> 2018 バレンタインカタログ５種 ［心斎橋店・梅田店・京都店・神戸店・東京店］ （A5・56ページ・中綴じ ※東京店のみ52ページ）
A7: 京都店 | H7: 様 | J7: 京都店 食品 土井様
A8: ▼下記の内容を確認の上 □ にチェックしてください | J8: ▼下記の内容を確認の上 □ にチェックしてください
A9: □ | B9: 商品の色合い(画像) | J9: □ | K9: 商品の色合い(画像)
A10: □ | B10: ブランド名・商品名・ロゴマーク | J10: □ | K10: ブランド名・商品名・ロゴマーク
A11: □ | B11: 税込価格・素材・色柄名・サイズ・原産国等の明細 | J11: □ | K11: 税込価格・素材・色柄名・サイズ・原産国等の明細
A12: □ | B12: 特徴や商品コピー等(強調表示) | J12: □ | K12: 特徴や商品コピー等(強調表示)
A13: □ | B13: 取扱い店および階数・フロア名 | J13: □ | K13: 取扱い店および階数・フロア名
A14: □ | B14: 展開期間 | J14: □ | K14: 展開期間
A15: □ | B15: 取引先・メーカーとの校正確認 | J15: □ | K15: 取引先・メーカーとの校正確認
A18: 検印を押し、 | C18: =フォーマット!C18 -> 43076 | F18: =フォーマット!F18 -> 15 | G18: [時間厳守]までに | J18: 検印を押し、 | L18: =フォーマット!C18 -> 43076 | O18: =フォーマット!F18 -> 15 | P18: [時間厳守]までに
A19: 媒体制作担当 | C19: =フォーマット!C19 -> 石田大成社 | F19: に返却願います。 | J19: 媒体制作担当 | L19: =フォーマット!C19 -> 石田大成社 | O19: に返却願います。
A21: 検印欄 | J21: 検印欄
A22: ご担当者 | D22: 部長 | G22: 販企・広告 | J22: ご担当者 | M22: 部長 | P22: 販企・広告
C23: → | F23: → | L23: → | O23: →
A25: スケジュール | J25: スケジュール
A26: =フォーマット!A26 -> 初校 | C26: =フォーマット!C26 -> 再校 | E26: =フォーマット!E26 -> 念校 | G26: =フォーマット!G26 -> 責了 | J26: =フォーマット!A26 -> 初校 | L26: =フォーマット!C26 -> 再校 | N26: =フォーマット!E26 -> 念校 | P26: =フォーマット!G26 -> 責了
A27: =フォーマット!A27 -> 43048 | C27: =フォーマット!C27 -> 43063 | E27: =フォーマット!E27 -> 43075 | G27: =フォーマット!G27 -> 43081 | J27: =フォーマット!A27 -> 43048 | L27: =フォーマット!C27 -> 43063 | N27: =フォーマット!E27 -> 43075 | P27: =フォーマット!G27 -> 43081
A28: =フォーマット!A28 -> 納品 | C28: =フォーマット!C28 | E28: =フォーマット!E28 | G28: =フォーマット!G28 | J28: =フォーマット!A28 -> 納品 | L28: =フォーマット!C28 | N28: =フォーマット!E28 | P28: =フォーマット!G28
A29: =フォーマット!A29 -> 43097 | C29: =フォーマット!C29 | E29: =フォーマット!E29 | G29: =フォーマット!G29 | J29: =フォーマット!A29 -> 43097 | L29: =フォーマット!C29 | N29: =フォーマット!E29 | P29: =フォーマット!G29
A30: 備考： | B30: =フォーマット!B30 | J30: 備考： | K30: =フォーマット!B30
E31: =フォーマット!E31 -> 石田大成社 | F31: =フォーマット!F31 -> 大阪 | G31: 営業担当： | H31: =フォーマット!H31 -> 杉上 | N31: =フォーマット!E31 -> 石田大成社 | O31: =フォーマット!F31 -> 大阪 | P31: 営業担当： | Q31: =フォーマット!H31 -> 杉上
A32: （心・梅・京・神・東・札・山・須・芦・博・下・鳥・高・名・豊・上・静・高）

Sheet 神戸店
A1: =フォーマット!A1 -> 校正をお願い致します | H1: =フォーマット!H1 -> 念校 | J1: =フォーマット!A1 -> 校正をお願い致します | Q1: =フォーマット!H1 -> 念校
A4: =フォーマット!A4 -> 本社 営業企画部 制作 | J4: =フォーマット!A4 -> 本社 営業企画部 制作
A5: 2018 バレンタインカタログ ［神戸店版］ （A5・56ページ・中綴じ） | J5: =フォーマット!A5 -> 2018 バレンタインカタログ５種 ［心斎橋店・梅田店・京都店・神戸店・東京店］ （A5・56ページ・中綴じ ※東京店のみ52ページ）
A7: 神戸店 | H7: 様 | J7: 神戸店 食品 山澤マネジャー様
A8: ▼下記の内容を確認の上 □ にチェックしてください | J8: ▼下記の内容を確認の上 □ にチェックしてください
A9: □ | B9: 商品の色合い(画像) | J9: □ | K9: 商品の色合い(画像)
A10: □ | B10: ブランド名・商品名・ロゴマーク | J10: □ | K10: ブランド名・商品名・ロゴマーク
A11: □ | B11: 税込価格・素材・色柄名・サイズ・原産国等の明細 | J11: □ | K11: 税込価格・素材・色柄名・サイズ・原産国等の明細
A12: □ | B12: 特徴や商品コピー等(強調表示) | J12: □ | K12: 特徴や商品コピー等(強調表示)
A13: □ | B13: 取扱い店および階数・フロア名 | J13: □ | K13: 取扱い店および階数・フロア名
A14: □ | B14: 展開期間 | J14: □ | K14: 展開期間
A15: □ | B15: 取引先・メーカーとの校正確認 | J15: □ | K15: 取引先・メーカーとの校正確認
A18: 検印を押し、 | C18: =フォーマット!C18 -> 43076 | F18: =フォーマット!F18 -> 15 | G18: [時間厳守]までに | J18: 検印を押し、 | L18: =フォーマット!C18 -> 43076 | O18: =フォーマット!F18 -> 15 | P18: [時間厳守]までに
A19: 媒体制作担当 | C19: =フォーマット!C19 -> 石田大成社 | F19: に返却願います。 | J19: 媒体制作担当 | L19: =フォーマット!C19 -> 石田大成社 | O19: に返却願います。
A21: 検印欄 | J21: 検印欄
A22: ご担当者 | D22: 部長 | G22: 販企・広告 | J22: ご担当者 | M22: 部長 | P22: 販企・広告
C23: → | F23: → | L23: → | O23: →
A25: スケジュール | J25: スケジュール
A26: =フォーマット!A26 -> 初校 | C26: =フォーマット!C26 -> 再校 | E26: =フォーマット!E26 -> 念校 | G26: =フォーマット!G26 -> 責了 | J26: =フォーマット!A26 -> 初校 | L26: =フォーマット!C26 -> 再校 | N26: =フォーマット!E26 -> 念校 | P26: =フォーマット!G26 -> 責了
A27: =フォーマット!A27 -> 43048 | C27: =フォーマット!C27 -> 43063 | E27: =フォーマット!E27 -> 43075 | G27: =フォーマット!G27 -> 43081 | J27: =フォーマット!A27 -> 43048 | L27: =フォーマット!C27 -> 43063 | N27: =フォーマット!E27 -> 43075 | P27: =フォーマット!G27 -> 43081
A28: =フォーマット!A28 -> 納品 | C28: =フォーマット!C28 | E28: =フォーマット!E28 | G28: =フォーマット!G28 | J28: =フォーマット!A28 -> 納品 | L28: =フォーマット!C28 | N28: =フォーマット!E28 | P28: =フォーマット!G28
A29: =フォーマット!A29 -> 43097 | C29: =フォーマット!C29 | E29: =フォーマット!E29 | G29: =フォーマット!G29 | J29: =フォーマット!A29 -> 43097 | L29: =フォーマット!C29 | N29: =フォーマット!E29 | P29: =フォーマット!G29
A30: 備考： | B30: =フォーマット!B30 | J30: 備考： | K30: =フォーマット!B30
E31: =フォーマット!E31 -> 石田大成社 | F31: =フォーマット!F31 -> 大阪 | G31: 営業担当： | H31: =フォーマット!H31 -> 杉上 | N31: =フォーマット!E31 -> 石田大成社 | O31: =フォーマット!F31 -> 大阪 | P31: 営業担当： | Q31: =フォーマット!H31 -> 杉上
A32: （心・梅・京・神・東・札・山・須・芦・博・下・鳥・高・名・豊・上・静・高）

Sheet 東京店1
A1: =フォーマット!A1 -> 校正をお願い致します | H1: =フォーマット!H1 -> 念校 | J1: =フォーマット!A1 -> 校正をお願い致します | Q1: =フォーマット!H1 -> 念校
A4: =フォーマット!A4 -> 本社 営業企画部 制作 | J4: =フォーマット!A4 -> 本社 営業企画部 制作
A5: 2018 バレンタインカタログ ［東京店版］ （A5・52ページ・中綴じ） | J5: =フォーマット!A5 -> 2018 バレンタインカタログ５種 ［心斎橋店・梅田店・京都店・神戸店・東京店］ （A5・56ページ・中綴じ ※東京店のみ52ページ）
A7: 東京店 | H7: 様 | J7: 東京店 食品 戸沼マネジャー様
A8: ▼下記の内容を確認の上 □ にチェックしてください | J8: ▼下記の内容を確認の上 □ にチェックしてください
A9: □ | B9: 商品の色合い(画像) | J9: □ | K9: 商品の色合い(画像)
A10: □ | B10: ブランド名・商品名・ロゴマーク | J10: □ | K10: ブランド名・商品名・ロゴマーク
A11: □ | B11: 税込価格・素材・色柄名・サイズ・原産国等の明細 | J11: □ | K11: 税込価格・素材・色柄名・サイズ・原産国等の明細
A12: □ | B12: 特徴や商品コピー等(強調表示) | J12: □ | K12: 特徴や商品コピー等(強調表示)
A13: □ | B13: 取扱い店および階数・フロア名 | J13: □ | K13: 取扱い店および階数・フロア名
A14: □ | B14: 展開期間 | J14: □ | K14: 展開期間
A15: □ | B15: 取引先・メーカーとの校正確認 | J15: □ | K15: 取引先・メーカーとの校正確認
A18: 検印を押し、 | C18: =フォーマット!C18 -> 43076 | F18: =フォーマット!F18 -> 15 | G18: [時間厳守]までに | J18: 検印を押し、 | L18: =フォーマット!C18 -> 43076 | O18: =フォーマット!F18 -> 15 | P18: [時間厳守]までに
A19: 媒体制作担当 | C19: =フォーマット!C19 -> 石田大成社 | F19: に返却願います。 | J19: 媒体制作担当 | L19: =フォーマット!C19 -> 石田大成社 | O19: に返却願います。
A21: 検印欄 | J21: 検印欄
A22: ご担当者 | D22: 部長 | G22: 販企・広告 | J22: ご担当者 | M22: 部長 | P22: 販企・広告
C23: → | F23: → | L23: → | O23: →
A25: スケジュール | J25: スケジュール
A26: =フォーマット!A26 -> 初校 | C26: =フォーマット!C26 -> 再校 | E26: =フォーマット!E26 -> 念校 | G26: =フォーマット!G26 -> 責了 | J26: =フォーマット!A26 -> 初校 | L26: =フォーマット!C26 -> 再校 | N26: =フォーマット!E26 -> 念校 | P26: =フォーマット!G26 -> 責了
A27: =フォーマット!A27 -> 43048 | C27: =フォーマット!C27 -> 43063 | E27: =フォーマット!E27 -> 43075 | G27: =フォーマット!G27 -> 43081 | J27: =フォーマット!A27 -> 43048 | L27: =フォーマット!C27 -> 43063 | N27: =フォーマット!E27 -> 43075 | P27: =フォーマット!G27 -> 43081
A28: =フォーマット!A28 -> 納品 | C28: =フォーマット!C28 | E28: =フォーマット!E28 | G28: =フォーマット!G28 | J28: =フォーマット!A28 -> 納品 | L28: =フォーマット!C28 | N28: =フォーマット!E28 | P28: =フォーマット!G28
A29: =フォーマット!A29 -> 43097 | C29: =フォーマット!C29 | E29: =フォーマット!E29 | G29: =フォーマット!G29 | J29: =フォーマット!A29 -> 43097 | L29: =フォーマット!C29 | N29: =フォーマット!E29 | P29: =フォーマット!G29
A30: 備考： | B30: =フォーマット!B30 | J30: 備考： | K30: =フォーマット!B30
E31: =フォーマット!E31 -> 石田大成社 | F31: =フォーマット!F31 -> 大阪 | G31: 営業担当： | H31: =フォーマット!H31 -> 杉上 | N31: =フォーマット!E31 -> 石田大成社 | O31: =フォーマット!F31 -> 大阪 | P31: 営業担当： | Q31: =フォーマット!H31 -> 杉上
A32: （心・梅・京・神・東・札・山・須・芦・博・下・鳥・高・名・豊・上・静・高）

Sheet 東京店2
A1: =フォーマット!A1 -> 校正をお願い致します | H1: =フォーマット!H1 -> 念校
A4: =フォーマット!A4 -> 本社 営業企画部 制作
A5: =フォーマット!A5 -> 2018 バレンタインカタログ５種 ［心斎橋店・梅田店・京都店・神戸店・東京店］ （A5・56ページ・中綴じ ※東京店のみ52ページ）
A7: 東京店 食品 西野様
A8: ▼下記の内容を確認の上 □ にチェックしてください
A9: □ | B9: 商品の色合い(画像)
A10: □ | B10: ブランド名・商品名・ロゴマーク
A11: □ | B11: 税込価格・素材・色柄名・サイズ・原産国等の明細
A12: □ | B12: 特徴や商品コピー等(強調表示)
A13: □ | B13: 取扱い店および階数・フロア名
A14: □ | B14: 展開期間
A15: □ | B15: 取引先・メーカーとの校正確認
A18: 検印を押し、 | C18: =フォーマット!C18 -> 43076 | F18: =フォーマット!F18 -> 15 | G18: [時間厳守]までに
A19: 媒体制作担当 | C19: =フォーマット!C19 -> 石田大成社 | F19: に返却願います。
A21: 検印欄
A22: ご担当者 | D22: 部長 | G22: 販企・広告
C23: → | F23: →
A25: スケジュール
A26: =フォーマット!A26 -> 初校 | C26: =フォーマット!C26 -> 再校 | E26: =フォーマット!E26 -> 念校 | G26: =フォーマット!G26 -> 責了
A27: =フォーマット!A27 -> 43048 | C27: =フォーマット!C27 -> 43063 | E27: =フォーマット!E27 -> 43075 | G27: =フォーマット!G27 -> 43081
A28: =フォーマット!A28 -> 納品 | C28: =フォーマット!C28 | E28: =フォーマット!E28 | G28: =フォーマット!G28
A29: =フォーマット!A29 -> 43097 | C29: =フォーマット!C29 | E29: =フォーマット!E29 | G29: =フォーマット!G29
A30: 備考： | B30: =フォーマット!B30
E31: =フォーマット!E31 -> 石田大成社 | F31: =フォーマット!F31 -> 大阪 | G31: 営業担当： | H31: =フォーマット!H31 -> 杉上
